BEGIN:VCALENDAR
VERSION:2.0
PRODID:-//Caritas of Austin - ECPv6.15.17.1//NONSGML v1.0//EN
CALSCALE:GREGORIAN
METHOD:PUBLISH
X-WR-CALNAME:Caritas of Austin
X-ORIGINAL-URL:https://caritasofaustin.org
X-WR-CALDESC:Events for Caritas of Austin
REFRESH-INTERVAL;VALUE=DURATION:PT1H
X-Robots-Tag:noindex
X-PUBLISHED-TTL:PT1H
BEGIN:VTIMEZONE
TZID:America/Chicago
BEGIN:DAYLIGHT
TZOFFSETFROM:-0600
TZOFFSETTO:-0500
TZNAME:CDT
DTSTART:20210314T080000
END:DAYLIGHT
BEGIN:STANDARD
TZOFFSETFROM:-0500
TZOFFSETTO:-0600
TZNAME:CST
DTSTART:20211107T070000
END:STANDARD
BEGIN:DAYLIGHT
TZOFFSETFROM:-0600
TZOFFSETTO:-0500
TZNAME:CDT
DTSTART:20220313T080000
END:DAYLIGHT
BEGIN:STANDARD
TZOFFSETFROM:-0500
TZOFFSETTO:-0600
TZNAME:CST
DTSTART:20221106T070000
END:STANDARD
BEGIN:DAYLIGHT
TZOFFSETFROM:-0600
TZOFFSETTO:-0500
TZNAME:CDT
DTSTART:20230312T080000
END:DAYLIGHT
BEGIN:STANDARD
TZOFFSETFROM:-0500
TZOFFSETTO:-0600
TZNAME:CST
DTSTART:20231105T070000
END:STANDARD
END:VTIMEZONE
BEGIN:VEVENT
DTSTART;VALUE=DATE:20220621
DTEND;VALUE=DATE:20220922
DTSTAMP:20260422T110922
CREATED:20220707T203508Z
LAST-MODIFIED:20220708T182224Z
UID:5347-1655769600-1663804799@caritasofaustin.org
SUMMARY:Black Star Co-op Pub and Brewery Summer Fundraiser
DESCRIPTION:Black Star Co-op Pub and Brewery is teaming up with Caritas of Austin this summer to help end homelessness! Every day that the temperature rises over 100°\, Black Star Co-op will donate $1 from select beverage sales to Caritas of Austin. Take advantage of the heat and treat yourself to a cold drink while supporting your unhoused neighbors.
URL:https://caritasofaustin.org/event/black-star-co-op-pub-and-brewery-summer-fundraiser/
LOCATION:Black Star Co-op Pub and Brewery\, 7020 Easy Wind Drive\, Suite 100\, Austin\, TX\, 78752\, United States
ATTACH;FMTTYPE=image/png:https://caritasofaustin.org/wp-content/uploads/2022/07/Caritas_2022BlackStarEmail_1withlogo.png
END:VEVENT
END:VCALENDAR