BEGIN:VCALENDAR
VERSION:2.0
PRODID:-//Caritas of Austin - ECPv6.15.17.1//NONSGML v1.0//EN
CALSCALE:GREGORIAN
METHOD:PUBLISH
X-WR-CALNAME:Caritas of Austin
X-ORIGINAL-URL:https://caritasofaustin.org
X-WR-CALDESC:Events for Caritas of Austin
REFRESH-INTERVAL;VALUE=DURATION:PT1H
X-Robots-Tag:noindex
X-PUBLISHED-TTL:PT1H
BEGIN:VTIMEZONE
TZID:America/Chicago
BEGIN:DAYLIGHT
TZOFFSETFROM:-0600
TZOFFSETTO:-0500
TZNAME:CDT
DTSTART:20220313T080000
END:DAYLIGHT
BEGIN:STANDARD
TZOFFSETFROM:-0500
TZOFFSETTO:-0600
TZNAME:CST
DTSTART:20221106T070000
END:STANDARD
BEGIN:DAYLIGHT
TZOFFSETFROM:-0600
TZOFFSETTO:-0500
TZNAME:CDT
DTSTART:20230312T080000
END:DAYLIGHT
BEGIN:STANDARD
TZOFFSETFROM:-0500
TZOFFSETTO:-0600
TZNAME:CST
DTSTART:20231105T070000
END:STANDARD
BEGIN:DAYLIGHT
TZOFFSETFROM:-0600
TZOFFSETTO:-0500
TZNAME:CDT
DTSTART:20240310T080000
END:DAYLIGHT
BEGIN:STANDARD
TZOFFSETFROM:-0500
TZOFFSETTO:-0600
TZNAME:CST
DTSTART:20241103T070000
END:STANDARD
END:VTIMEZONE
BEGIN:VEVENT
DTSTART;TZID=America/Chicago:20230315T140000
DTEND;TZID=America/Chicago:20230315T200000
DTSTAMP:20260424T134822
CREATED:20230224T161513Z
LAST-MODIFIED:20230224T161513Z
UID:5881-1678888800-1678910400@caritasofaustin.org
SUMMARY:ComboPlate Booking's South by Soup Fest
DESCRIPTION:For 19 years\, ComboPlate Booking’s roster party has raised money for Caritas of Austin Food Services programs\, specifically the Caritas Community Kitchen and Food Pantry. This event\, hosted by ComboPlate Booking\, is free and open to the public. Join us Guero’s Taco Bar on Wednesday\, March 15\, for live music by the artists on ComboPlate Booking roster! At South by Soup Fest\, all proceeds from raffled CDs\, gift certificates from local restaurants\, coffee shops\, and businesses\, and band tips will go to our Food Services programs. Come join us on March 15th to hear some great music and end homelessness in Austin!
URL:https://caritasofaustin.org/event/comboplate-bookings-south-by-soup-fest-2/
LOCATION:Guero’s Taco Bar\, 1412 S Congress Ave\, Austin\, TX\, United States
ATTACH;FMTTYPE=image/jpeg:https://caritasofaustin.org/wp-content/uploads/2023/02/SXSF-2023-Roster-e1677255293513.jpg
END:VEVENT
END:VCALENDAR