BEGIN:VCALENDAR
VERSION:2.0
PRODID:-//Caritas of Austin - ECPv6.15.17.1//NONSGML v1.0//EN
CALSCALE:GREGORIAN
METHOD:PUBLISH
X-WR-CALNAME:Caritas of Austin
X-ORIGINAL-URL:https://caritasofaustin.org
X-WR-CALDESC:Events for Caritas of Austin
REFRESH-INTERVAL;VALUE=DURATION:PT1H
X-Robots-Tag:noindex
X-PUBLISHED-TTL:PT1H
BEGIN:VTIMEZONE
TZID:America/Chicago
BEGIN:DAYLIGHT
TZOFFSETFROM:-0600
TZOFFSETTO:-0500
TZNAME:CDT
DTSTART:20200308T080000
END:DAYLIGHT
BEGIN:STANDARD
TZOFFSETFROM:-0500
TZOFFSETTO:-0600
TZNAME:CST
DTSTART:20201101T070000
END:STANDARD
BEGIN:DAYLIGHT
TZOFFSETFROM:-0600
TZOFFSETTO:-0500
TZNAME:CDT
DTSTART:20210314T080000
END:DAYLIGHT
BEGIN:STANDARD
TZOFFSETFROM:-0500
TZOFFSETTO:-0600
TZNAME:CST
DTSTART:20211107T070000
END:STANDARD
BEGIN:DAYLIGHT
TZOFFSETFROM:-0600
TZOFFSETTO:-0500
TZNAME:CDT
DTSTART:20220313T080000
END:DAYLIGHT
BEGIN:STANDARD
TZOFFSETFROM:-0500
TZOFFSETTO:-0600
TZNAME:CST
DTSTART:20221106T070000
END:STANDARD
END:VTIMEZONE
BEGIN:VEVENT
DTSTART;TZID=America/Chicago:20210518T113000
DTEND;TZID=America/Chicago:20210518T123000
DTSTAMP:20260424T175817
CREATED:20210427T205818Z
LAST-MODIFIED:20210520T182644Z
UID:4075-1621337400-1621341000@caritasofaustin.org
SUMMARY:Community Conversation: Building a Lasting Solution to Homelessness with Supportive Housing
DESCRIPTION:Permanent Supportive Housing is a proven method for ending homelessness for people\, helping to build a stable foundation and well-being. While Caritas of Austin has provided this program for many years\, we are now embarking on a new chapter to build our own housing with Espero Austin at Rutland. Join us to learn about the partnership with The Vecino Group and Austin Housing Finance Corporation that is making this possible and what it means to Austin. This event is free. Register here. \n  \nSpeakers: \n \nJo Kathryn Quinn\nCaritas of Austin President and CEO \n \nPatrick Russell\nHousing Development Manager for Austin Housing Finance Corporation \n \nHeather Bradley-Geary\nDirector of Supportive Housing for The Vecino Group
URL:https://caritasofaustin.org/event/community-conversation-meeting-the-need-for-austins-homeless-population-with-supportive-housing/
LOCATION:Virtual
ATTACH;FMTTYPE=image/png:https://caritasofaustin.org/wp-content/uploads/2021/04/CAR_2021MayConvo_WebsiteBanner-2.png
END:VEVENT
END:VCALENDAR