BEGIN:VCALENDAR
VERSION:2.0
PRODID:-//Caritas of Austin - ECPv6.15.17.1//NONSGML v1.0//EN
CALSCALE:GREGORIAN
METHOD:PUBLISH
X-WR-CALNAME:Caritas of Austin
X-ORIGINAL-URL:https://caritasofaustin.org
X-WR-CALDESC:Events for Caritas of Austin
REFRESH-INTERVAL;VALUE=DURATION:PT1H
X-Robots-Tag:noindex
X-PUBLISHED-TTL:PT1H
BEGIN:VTIMEZONE
TZID:America/Chicago
BEGIN:DAYLIGHT
TZOFFSETFROM:-0600
TZOFFSETTO:-0500
TZNAME:CDT
DTSTART:20180311T080000
END:DAYLIGHT
BEGIN:STANDARD
TZOFFSETFROM:-0500
TZOFFSETTO:-0600
TZNAME:CST
DTSTART:20181104T070000
END:STANDARD
BEGIN:DAYLIGHT
TZOFFSETFROM:-0600
TZOFFSETTO:-0500
TZNAME:CDT
DTSTART:20190310T080000
END:DAYLIGHT
BEGIN:STANDARD
TZOFFSETFROM:-0500
TZOFFSETTO:-0600
TZNAME:CST
DTSTART:20191103T070000
END:STANDARD
BEGIN:DAYLIGHT
TZOFFSETFROM:-0600
TZOFFSETTO:-0500
TZNAME:CDT
DTSTART:20200308T080000
END:DAYLIGHT
BEGIN:STANDARD
TZOFFSETFROM:-0500
TZOFFSETTO:-0600
TZNAME:CST
DTSTART:20201101T070000
END:STANDARD
END:VTIMEZONE
BEGIN:VEVENT
DTSTART;TZID=America/Chicago:20191120T073000
DTEND;TZID=America/Chicago:20191120T090000
DTSTAMP:20260424T213131
CREATED:20191029T172931Z
LAST-MODIFIED:20191202T190045Z
UID:2858-1574235000-1574240400@caritasofaustin.org
SUMMARY:Community Conversation: Ending Homelessness Together
DESCRIPTION:Ending homelessness for our neighbors is a complex\, but solvable\, issue. Join representatives from Caritas of Austin\, Front Steps\, Salvation Army and Trinity Center to learn about the positive solutions these organizations bring to the table as we work to prevent and end homelessness\, together. \nRSVP Here \nShare on Facebook \nTweet about this
URL:https://caritasofaustin.org/event/ending-homelessness-together/
LOCATION:CBRE\, 500 West 2nd Street\, Austin\, TX\, 78701
ATTACH;FMTTYPE=image/png:https://caritasofaustin.org/wp-content/uploads/2019/10/web.png
END:VEVENT
END:VCALENDAR