BEGIN:VCALENDAR
VERSION:2.0
PRODID:-//Caritas of Austin - ECPv6.15.17.1//NONSGML v1.0//EN
CALSCALE:GREGORIAN
METHOD:PUBLISH
X-WR-CALNAME:Caritas of Austin
X-ORIGINAL-URL:https://caritasofaustin.org
X-WR-CALDESC:Events for Caritas of Austin
REFRESH-INTERVAL;VALUE=DURATION:PT1H
X-Robots-Tag:noindex
X-PUBLISHED-TTL:PT1H
BEGIN:VTIMEZONE
TZID:America/Chicago
BEGIN:DAYLIGHT
TZOFFSETFROM:-0600
TZOFFSETTO:-0500
TZNAME:CDT
DTSTART:20190310T080000
END:DAYLIGHT
BEGIN:STANDARD
TZOFFSETFROM:-0500
TZOFFSETTO:-0600
TZNAME:CST
DTSTART:20191103T070000
END:STANDARD
BEGIN:DAYLIGHT
TZOFFSETFROM:-0600
TZOFFSETTO:-0500
TZNAME:CDT
DTSTART:20200308T080000
END:DAYLIGHT
BEGIN:STANDARD
TZOFFSETFROM:-0500
TZOFFSETTO:-0600
TZNAME:CST
DTSTART:20201101T070000
END:STANDARD
BEGIN:DAYLIGHT
TZOFFSETFROM:-0600
TZOFFSETTO:-0500
TZNAME:CDT
DTSTART:20210314T080000
END:DAYLIGHT
BEGIN:STANDARD
TZOFFSETFROM:-0500
TZOFFSETTO:-0600
TZNAME:CST
DTSTART:20211107T070000
END:STANDARD
END:VTIMEZONE
BEGIN:VEVENT
DTSTART;TZID=America/Chicago:20200308T113000
DTEND;TZID=America/Chicago:20200308T184500
DTSTAMP:20260424T163857
CREATED:20200117T222741Z
LAST-MODIFIED:20200204T171732Z
UID:2987-1583667000-1583693100@caritasofaustin.org
SUMMARY:Help End Homelessness Blues Fundraiser at Giddy Up’s
DESCRIPTION:  \nEnjoy some great live\, local music and support your neighbors as all proceeds go directly toward our mission! \nDoors open at 11:30 AM and there will be a food truck on site. Admission is $10 or you can also choose to donate directly to Caritas. Be sure to bring a copy of your donation receipt to get in free. \n  \nMusic Line-Up \n12:15 – 12:45    Opening Ceremony Caritas talks \n1:00 – 1:45       Robert Johnson’s Soul \n2:00 – 2:45     The Blues Posse Band \n3:00 – 3:45     Michael Milligan and Texiana Bluez \n4:00 – 4:45     Kathy and Kilowatts \n5:00 – 5:45     Ruben V \n6:00 – 6:45     Oscar Ornelas \n 
URL:https://caritasofaustin.org/event/help-end-homelessness-blues-fundraiser-at-giddy-ups/
LOCATION:Giddy-Ups\, 12010 Manchaca Rd.\, Austin\, Texas\, 78748
END:VEVENT
END:VCALENDAR