BEGIN:VCALENDAR
VERSION:2.0
PRODID:-//Caritas of Austin - ECPv6.15.17.1//NONSGML v1.0//EN
CALSCALE:GREGORIAN
METHOD:PUBLISH
X-WR-CALNAME:Caritas of Austin
X-ORIGINAL-URL:https://caritasofaustin.org
X-WR-CALDESC:Events for Caritas of Austin
REFRESH-INTERVAL;VALUE=DURATION:PT1H
X-Robots-Tag:noindex
X-PUBLISHED-TTL:PT1H
BEGIN:VTIMEZONE
TZID:America/Chicago
BEGIN:DAYLIGHT
TZOFFSETFROM:-0600
TZOFFSETTO:-0500
TZNAME:CDT
DTSTART:20220313T080000
END:DAYLIGHT
BEGIN:STANDARD
TZOFFSETFROM:-0500
TZOFFSETTO:-0600
TZNAME:CST
DTSTART:20221106T070000
END:STANDARD
BEGIN:DAYLIGHT
TZOFFSETFROM:-0600
TZOFFSETTO:-0500
TZNAME:CDT
DTSTART:20230312T080000
END:DAYLIGHT
BEGIN:STANDARD
TZOFFSETFROM:-0500
TZOFFSETTO:-0600
TZNAME:CST
DTSTART:20231105T070000
END:STANDARD
BEGIN:DAYLIGHT
TZOFFSETFROM:-0600
TZOFFSETTO:-0500
TZNAME:CDT
DTSTART:20240310T080000
END:DAYLIGHT
BEGIN:STANDARD
TZOFFSETFROM:-0500
TZOFFSETTO:-0600
TZNAME:CST
DTSTART:20241103T070000
END:STANDARD
END:VTIMEZONE
BEGIN:VEVENT
DTSTART;TZID=America/Chicago:20230720T193000
DTEND;TZID=America/Chicago:20230720T210000
DTSTAMP:20260424T122247
CREATED:20230712T184620Z
LAST-MODIFIED:20230712T184620Z
UID:6380-1689881400-1689886800@caritasofaustin.org
SUMMARY:Hot Summer Nights Kickoff Party
DESCRIPTION:Join us on July 20th to kickoff Red River Cultural District’s Hot Summer Nights Festival! This event will feature live music by great local artists and the launch of a new beer brewed at Central District Brewing\, the Red River Kolsch. Proceeds from the Red River Kolsch sales will benefit Caritas of Austin and go toward our work to end homelessness!
URL:https://caritasofaustin.org/event/hot-summer-nights-kickoff-party/
LOCATION:Swan Dive\, 615 Red River\, Austin\, TX\, 78701\, United States
ATTACH;FMTTYPE=image/jpeg:https://caritasofaustin.org/wp-content/uploads/2023/07/red-river-hot-summer-nights-e1689187535185.jpg
END:VEVENT
END:VCALENDAR