BEGIN:VCALENDAR
VERSION:2.0
PRODID:-//Caritas of Austin - ECPv6.15.17.1//NONSGML v1.0//EN
CALSCALE:GREGORIAN
METHOD:PUBLISH
X-WR-CALNAME:Caritas of Austin
X-ORIGINAL-URL:https://caritasofaustin.org
X-WR-CALDESC:Events for Caritas of Austin
REFRESH-INTERVAL;VALUE=DURATION:PT1H
X-Robots-Tag:noindex
X-PUBLISHED-TTL:PT1H
BEGIN:VTIMEZONE
TZID:America/Chicago
BEGIN:DAYLIGHT
TZOFFSETFROM:-0600
TZOFFSETTO:-0500
TZNAME:CDT
DTSTART:20180311T080000
END:DAYLIGHT
BEGIN:STANDARD
TZOFFSETFROM:-0500
TZOFFSETTO:-0600
TZNAME:CST
DTSTART:20181104T070000
END:STANDARD
BEGIN:DAYLIGHT
TZOFFSETFROM:-0600
TZOFFSETTO:-0500
TZNAME:CDT
DTSTART:20190310T080000
END:DAYLIGHT
BEGIN:STANDARD
TZOFFSETFROM:-0500
TZOFFSETTO:-0600
TZNAME:CST
DTSTART:20191103T070000
END:STANDARD
BEGIN:DAYLIGHT
TZOFFSETFROM:-0600
TZOFFSETTO:-0500
TZNAME:CDT
DTSTART:20200308T080000
END:DAYLIGHT
BEGIN:STANDARD
TZOFFSETFROM:-0500
TZOFFSETTO:-0600
TZNAME:CST
DTSTART:20201101T070000
END:STANDARD
END:VTIMEZONE
BEGIN:VEVENT
DTSTART;TZID=America/Chicago:20191106T193000
DTEND;TZID=America/Chicago:20191106T230000
DTSTAMP:20260424T213132
CREATED:20191009T224049Z
LAST-MODIFIED:20191106T153447Z
UID:2824-1573068600-1573081200@caritasofaustin.org
SUMMARY:Red White & Blues 512
DESCRIPTION:Red\, White & Blues 512 | House Our Heroes Blues Festival is once again bringing people together through music and raising awareness for our city’s veterans! This fundraiser\, created to help veterans experiencing homelessness\, was founded by a small group of friends who were inspired by the collaborative efforts happening in Austin to end veteran homelessness. Proceeds and donations from the concert support local nonprofits\, including Caritas of Austin\, that provide vital services and improve the lives of veterans. \nThis year’s event features Roxy Roca and Tameca Jones. Don’t miss it! \nTickets Now Available
URL:https://caritasofaustin.org/event/red-white-blues-512-2/
LOCATION:Stubb’s Indoor Stage\, 801 Red River Street\, Austin\, TX\, 78701
ATTACH;FMTTYPE=image/png:https://caritasofaustin.org/wp-content/uploads/2019/10/RWB-Tameca-Jones-Roxy-Roca-website-event-banner.png
END:VEVENT
END:VCALENDAR