BEGIN:VCALENDAR
VERSION:2.0
PRODID:-//Caritas of Austin - ECPv6.15.17.1//NONSGML v1.0//EN
CALSCALE:GREGORIAN
METHOD:PUBLISH
X-WR-CALNAME:Caritas of Austin
X-ORIGINAL-URL:https://caritasofaustin.org
X-WR-CALDESC:Events for Caritas of Austin
REFRESH-INTERVAL;VALUE=DURATION:PT1H
X-Robots-Tag:noindex
X-PUBLISHED-TTL:PT1H
BEGIN:VTIMEZONE
TZID:America/Chicago
BEGIN:DAYLIGHT
TZOFFSETFROM:-0600
TZOFFSETTO:-0500
TZNAME:CDT
DTSTART:20190310T080000
END:DAYLIGHT
BEGIN:STANDARD
TZOFFSETFROM:-0500
TZOFFSETTO:-0600
TZNAME:CST
DTSTART:20191103T070000
END:STANDARD
BEGIN:DAYLIGHT
TZOFFSETFROM:-0600
TZOFFSETTO:-0500
TZNAME:CDT
DTSTART:20200308T080000
END:DAYLIGHT
BEGIN:STANDARD
TZOFFSETFROM:-0500
TZOFFSETTO:-0600
TZNAME:CST
DTSTART:20201101T070000
END:STANDARD
BEGIN:DAYLIGHT
TZOFFSETFROM:-0600
TZOFFSETTO:-0500
TZNAME:CDT
DTSTART:20210314T080000
END:DAYLIGHT
BEGIN:STANDARD
TZOFFSETFROM:-0500
TZOFFSETTO:-0600
TZNAME:CST
DTSTART:20211107T070000
END:STANDARD
END:VTIMEZONE
BEGIN:VEVENT
DTSTART;TZID=America/Chicago:20200223T140000
DTEND;TZID=America/Chicago:20200223T160000
DTSTAMP:20260424T175816
CREATED:20200214T164133Z
LAST-MODIFIED:20200214T164133Z
UID:3052-1582466400-1582473600@caritasofaustin.org
SUMMARY:Shop for a cause with Madewell Commons and Caritas of Austin!
DESCRIPTION:  \nCome hang with Madewell and spread the good vibes – enjoy sips\, snacks and\, of course\, great shopping. A percentage of your purchase benefits Caritas of Austin. \n1329 South Congress Avenue
URL:https://caritasofaustin.org/event/shop-for-a-cause-with-madewell-commons-and-caritas-of-austin/
LOCATION:Madewell Commons\, 1329 South Congress Avenue\, Austin\, TX\, 78704\, United States
END:VEVENT
END:VCALENDAR