BEGIN:VCALENDAR
VERSION:2.0
PRODID:-//Caritas of Austin - ECPv6.15.17.1//NONSGML v1.0//EN
CALSCALE:GREGORIAN
METHOD:PUBLISH
X-WR-CALNAME:Caritas of Austin
X-ORIGINAL-URL:https://caritasofaustin.org
X-WR-CALDESC:Events for Caritas of Austin
REFRESH-INTERVAL;VALUE=DURATION:PT1H
X-Robots-Tag:noindex
X-PUBLISHED-TTL:PT1H
BEGIN:VTIMEZONE
TZID:America/Chicago
BEGIN:DAYLIGHT
TZOFFSETFROM:-0600
TZOFFSETTO:-0500
TZNAME:CDT
DTSTART:20190310T080000
END:DAYLIGHT
BEGIN:STANDARD
TZOFFSETFROM:-0500
TZOFFSETTO:-0600
TZNAME:CST
DTSTART:20191103T070000
END:STANDARD
BEGIN:DAYLIGHT
TZOFFSETFROM:-0600
TZOFFSETTO:-0500
TZNAME:CDT
DTSTART:20200308T080000
END:DAYLIGHT
BEGIN:STANDARD
TZOFFSETFROM:-0500
TZOFFSETTO:-0600
TZNAME:CST
DTSTART:20201101T070000
END:STANDARD
BEGIN:DAYLIGHT
TZOFFSETFROM:-0600
TZOFFSETTO:-0500
TZNAME:CDT
DTSTART:20210314T080000
END:DAYLIGHT
BEGIN:STANDARD
TZOFFSETFROM:-0500
TZOFFSETTO:-0600
TZNAME:CST
DTSTART:20211107T070000
END:STANDARD
END:VTIMEZONE
BEGIN:VEVENT
DTSTART;TZID=America/Chicago:20200318T120000
DTEND;TZID=America/Chicago:20200318T200000
DTSTAMP:20260424T151555
CREATED:20200228T154723Z
LAST-MODIFIED:20200228T155034Z
UID:3080-1584532800-1584561600@caritasofaustin.org
SUMMARY:South By Soup Fest Benefit 2020
DESCRIPTION:  \nComboPlate Booking Roster Party at Guero’s Taco Bar  \nYou can help end homelessness in Austin while listening to  some great live music at Gueros on March 18th. The roster party raises money for the Caritas of Austin Food Services programs\, specifically the Caritas Community Kitchen and Food Pantry. The event is hosted and promoted by ComboPlate Booking and is free and open to the public. Live music will be provided by the artists on the ComboPlate Booking roster. Money will be raised by raffling off CDs from the artists and all band tips will go the Food Services programs. \nPerformances by: \n12-12:20 pm         The Better Halves\n12:30-12:55 pm   Stephen Clair\n1:05-1:40 pm       Nobody’s Girl\n1:50-2:25 pm      JM Stevens\n2:35-3:10 pm       Beaver Nelson\n3:20-3:55 pm      Curtis McMurtry\n4:05-4:35 pm     Jeff Plankenhorn & Scrappy Jud Newcomb\n4:45-5:25 pm      Raina Rose\n5:35-6:15 pm       Matt The Electrician\n6:25-7:05 pm      Nathan Hamilton\n7:15-7:55 pm       BettySoo
URL:https://caritasofaustin.org/event/south-by-soup-fest-benefit-2020/
LOCATION:Guero’s Taco Bar\, 1412 S Congress Ave\, Austin\, TX\, United States
END:VEVENT
END:VCALENDAR