BEGIN:VCALENDAR
VERSION:2.0
PRODID:-//Caritas of Austin - ECPv6.15.17.1//NONSGML v1.0//EN
CALSCALE:GREGORIAN
METHOD:PUBLISH
X-WR-CALNAME:Caritas of Austin
X-ORIGINAL-URL:https://caritasofaustin.org
X-WR-CALDESC:Events for Caritas of Austin
REFRESH-INTERVAL;VALUE=DURATION:PT1H
X-Robots-Tag:noindex
X-PUBLISHED-TTL:PT1H
BEGIN:VTIMEZONE
TZID:America/Chicago
BEGIN:DAYLIGHT
TZOFFSETFROM:-0600
TZOFFSETTO:-0500
TZNAME:CDT
DTSTART:20200308T080000
END:DAYLIGHT
BEGIN:STANDARD
TZOFFSETFROM:-0500
TZOFFSETTO:-0600
TZNAME:CST
DTSTART:20201101T070000
END:STANDARD
BEGIN:DAYLIGHT
TZOFFSETFROM:-0600
TZOFFSETTO:-0500
TZNAME:CDT
DTSTART:20210314T080000
END:DAYLIGHT
BEGIN:STANDARD
TZOFFSETFROM:-0500
TZOFFSETTO:-0600
TZNAME:CST
DTSTART:20211107T070000
END:STANDARD
BEGIN:DAYLIGHT
TZOFFSETFROM:-0600
TZOFFSETTO:-0500
TZNAME:CDT
DTSTART:20220313T080000
END:DAYLIGHT
BEGIN:STANDARD
TZOFFSETFROM:-0500
TZOFFSETTO:-0600
TZNAME:CST
DTSTART:20221106T070000
END:STANDARD
END:VTIMEZONE
BEGIN:VEVENT
DTSTART;TZID=America/Chicago:20210601T080000
DTEND;TZID=America/Chicago:20210630T170000
DTSTAMP:20260424T014402
CREATED:20210604T223230Z
LAST-MODIFIED:20210722T153341Z
UID:4226-1622534400-1625072400@caritasofaustin.org
SUMMARY:World Refugee Day 2021
DESCRIPTION:Austin Refugee Roundtable invites you to celebrate the cultures that continue to make Texas the diverse place it is today. Join us for a series of World Refugee Day events all month long. \nEvents include:\nJune 1: Let’s Talk About Asylum with Egyptian asylum seeker Ahmed Abbas\nJune 5: Teens Supporting Refugees\, a roundtable discussion\nJune 6-12: Let’s Laugh Together! Comedy Show with Ramjaane Niyoyita\nJune 10: Let’s Talk About Immigration! Immigrant Leaders Panel Discussion\nJune 13-19: WRD Volunteer Day with Multicultural Refugee Coalition at New Leaf Farm\nJune 18: Juneteenth Panel Discussion – Learn the history\, significance and celebration of Juneteenth\nJune 19: RST’s Saturday Book Club featuring Somewhere in the Unknown World by Kao Kalia Yang\nJune 19: Native Filipino Dinner Experience with Refugee Services of Texas at Intero Restaurant\nJune 27: What’s in a Word? A Roundtable Discussion with Language Interpreters \nRSVP to all events on Facebook at @AustinRefugeeRoundTable
URL:https://caritasofaustin.org/event/world-refugee-day-2021/
ATTACH;FMTTYPE=image/jpeg:https://caritasofaustin.org/wp-content/uploads/2021/06/WRD-FB-image-2021.jpg
END:VEVENT
END:VCALENDAR