BEGIN:VCALENDAR
VERSION:2.0
PRODID:-//Caritas of Austin - ECPv6.15.17.1//NONSGML v1.0//EN
CALSCALE:GREGORIAN
METHOD:PUBLISH
X-WR-CALNAME:Caritas of Austin
X-ORIGINAL-URL:https://caritasofaustin.org
X-WR-CALDESC:Events for Caritas of Austin
REFRESH-INTERVAL;VALUE=DURATION:PT1H
X-Robots-Tag:noindex
X-PUBLISHED-TTL:PT1H
BEGIN:VTIMEZONE
TZID:America/Chicago
BEGIN:DAYLIGHT
TZOFFSETFROM:-0600
TZOFFSETTO:-0500
TZNAME:CDT
DTSTART:20220313T080000
END:DAYLIGHT
BEGIN:STANDARD
TZOFFSETFROM:-0500
TZOFFSETTO:-0600
TZNAME:CST
DTSTART:20221106T070000
END:STANDARD
BEGIN:DAYLIGHT
TZOFFSETFROM:-0600
TZOFFSETTO:-0500
TZNAME:CDT
DTSTART:20230312T080000
END:DAYLIGHT
BEGIN:STANDARD
TZOFFSETFROM:-0500
TZOFFSETTO:-0600
TZNAME:CST
DTSTART:20231105T070000
END:STANDARD
BEGIN:DAYLIGHT
TZOFFSETFROM:-0600
TZOFFSETTO:-0500
TZNAME:CDT
DTSTART:20240310T080000
END:DAYLIGHT
BEGIN:STANDARD
TZOFFSETFROM:-0500
TZOFFSETTO:-0600
TZNAME:CST
DTSTART:20241103T070000
END:STANDARD
BEGIN:DAYLIGHT
TZOFFSETFROM:-0600
TZOFFSETTO:-0500
TZNAME:CDT
DTSTART:20250309T080000
END:DAYLIGHT
BEGIN:STANDARD
TZOFFSETFROM:-0500
TZOFFSETTO:-0600
TZNAME:CST
DTSTART:20251102T070000
END:STANDARD
BEGIN:DAYLIGHT
TZOFFSETFROM:-0600
TZOFFSETTO:-0500
TZNAME:CDT
DTSTART:20260308T080000
END:DAYLIGHT
BEGIN:STANDARD
TZOFFSETFROM:-0500
TZOFFSETTO:-0600
TZNAME:CST
DTSTART:20261101T070000
END:STANDARD
END:VTIMEZONE
BEGIN:VTIMEZONE
TZID:UTC
BEGIN:STANDARD
TZOFFSETFROM:+0000
TZOFFSETTO:+0000
TZNAME:UTC
DTSTART:20220101T000000
END:STANDARD
END:VTIMEZONE
BEGIN:VEVENT
DTSTART;TZID=America/Chicago:20230412T163000
DTEND;TZID=America/Chicago:20230412T183000
DTSTAMP:20260424T110547
CREATED:20230327T213744Z
LAST-MODIFIED:20230327T213744Z
UID:5978-1681317000-1681324200@caritasofaustin.org
SUMMARY:Community Conversation: Creating Stability & Brighter Futures Through Employment
DESCRIPTION:Join us on Wednesday\, April 12\, from 4:30 – 6:30 p.m. to learn about Caritas of Austin’s Employment Program. We’ll discuss how we partner with local employers to help clients find a meaningful job with a livable wage and find stability through employment. You will hear various perspectives from our Employment Program Manager\, Aso (Mike) Kakarash\, our local employers\, and others who work with Caritas clients every day. The event is free. Please RSVP to Troy Gilbert at tgilbert@caritasofaustin.org.
URL:https://caritasofaustin.org/event/community-conversation-creating-stability-brighter-futures-through-employment/
LOCATION:Austin Subaru\, 8100 Burnet Road\, Austin\, TX\, 78757\, United States
CATEGORIES:Community Conversation
ATTACH;FMTTYPE=image/png:https://caritasofaustin.org/wp-content/uploads/2023/03/Caritas_2023AprilConvo_WebsiteBanner.png
END:VEVENT
BEGIN:VEVENT
DTSTART;VALUE=DATE:20230601
DTEND;VALUE=DATE:20230705
DTSTAMP:20260424T110547
CREATED:20230602T170744Z
LAST-MODIFIED:20230602T170744Z
UID:6323-1685577600-1688515199@caritasofaustin.org
SUMMARY:Do Good Feel Good
DESCRIPTION:Join us for the first-ever Austin Subaru Do Good Feel Good event\, and you can help us end homelessness for even more Austinites! \nThis month\, for every new car lease or purchase at Austin Subaru\, Subaru will donate $50 to your choice of their 6 Love Promise Charity Partners\, including Caritas of Austin. If you’re not in the market for a new car or want to double your impact to Caritas\, you can vote for Caritas of Austin to be Austin Subaru’s Share The Love Partner for the year. If we win the Share The Love Partner\, we’ll receive an extra $100\,000 to end homelessness in Austin! \nYou can vote once a day\, so be sure to vote often! Thank you for helping us make Austin more vibrant for all\, and thank you Austin Subaru for partnering with us to truly end homelessness in Austin.
URL:https://caritasofaustin.org/event/do-good-feel-good/
LOCATION:TX
ATTACH;FMTTYPE=image/png:https://caritasofaustin.org/wp-content/uploads/2023/06/Caritas-Do-Good-Feel-Good-e1685725612285.png
END:VEVENT
BEGIN:VEVENT
DTSTART;TZID=America/Chicago:20230624T110000
DTEND;TZID=America/Chicago:20230624T143000
DTSTAMP:20260424T110547
CREATED:20230602T165926Z
LAST-MODIFIED:20230602T165926Z
UID:6319-1687604400-1687617000@caritasofaustin.org
SUMMARY:World Refugee Day
DESCRIPTION:Join us for a free celebration of World Refugee Day at the Bullock Museum and learn about the cultures that continue to make Texas the diverse place it is today. \nCommemorate the United Nations’ World Refugee Day with a naturalization ceremony\, free samples of world cuisine\, live music\, and activities for families with kids of all ages!
URL:https://caritasofaustin.org/event/world-refugee-day/
LOCATION:Bullock Texas State History Museum\, 1800 Congress Ave\, Austin\, TX\, 78701
ATTACH;FMTTYPE=image/png:https://caritasofaustin.org/wp-content/uploads/2023/06/WRD-Website-Graphic.png
END:VEVENT
BEGIN:VEVENT
DTSTART;TZID=America/Chicago:20230720T193000
DTEND;TZID=America/Chicago:20230720T210000
DTSTAMP:20260424T110547
CREATED:20230712T184620Z
LAST-MODIFIED:20230712T184620Z
UID:6380-1689881400-1689886800@caritasofaustin.org
SUMMARY:Hot Summer Nights Kickoff Party
DESCRIPTION:Join us on July 20th to kickoff Red River Cultural District’s Hot Summer Nights Festival! This event will feature live music by great local artists and the launch of a new beer brewed at Central District Brewing\, the Red River Kolsch. Proceeds from the Red River Kolsch sales will benefit Caritas of Austin and go toward our work to end homelessness!
URL:https://caritasofaustin.org/event/hot-summer-nights-kickoff-party/
LOCATION:Swan Dive\, 615 Red River\, Austin\, TX\, 78701\, United States
ATTACH;FMTTYPE=image/jpeg:https://caritasofaustin.org/wp-content/uploads/2023/07/red-river-hot-summer-nights-e1689187535185.jpg
END:VEVENT
BEGIN:VEVENT
DTSTART;TZID=America/Chicago:20230907T180000
DTEND;TZID=America/Chicago:20230907T220000
DTSTAMP:20260424T110547
CREATED:20230614T192008Z
LAST-MODIFIED:20230615T185210Z
UID:6343-1694109600-1694124000@caritasofaustin.org
SUMMARY:Songs of Hope
DESCRIPTION:
URL:https://caritasofaustin.org/event/songs-of-hope-2/
LOCATION:The Long Center for the Performing Arts\, 701 West Riverside Drive\, Austin\, TX\, 78704\, United States
ATTACH;FMTTYPE=image/png:https://caritasofaustin.org/wp-content/uploads/2022/03/SongsOfHope_Landscape-1.png
END:VEVENT
BEGIN:VEVENT
DTSTART;TZID=America/Chicago:20230926T073000
DTEND;TZID=America/Chicago:20230926T090000
DTSTAMP:20260424T110547
CREATED:20230818T191631Z
LAST-MODIFIED:20230818T191631Z
UID:6508-1695713400-1695718800@caritasofaustin.org
SUMMARY:Issues and Eggs
DESCRIPTION:Join us at St. David’s Episcopal Church on September 26th to hear from panelists\, including Mayor Kirk Watson and Caritas of Austin President and CEO Jo Kathryn Quinn\, on how Austin is taking a more balanced approach to serving our neighbors experiencing homelessness! \nEnjoy a free breakfast and meaningful conversation about how the City will distribute $65 million to combat homelessness for our fellow Austinites. You won’t want to miss this installment of Issues & Eggs\, so register today!
URL:https://caritasofaustin.org/event/issues-and-eggs/
LOCATION:St. David’s Episcopal Church\, 301 E 8th Street\, Austin\, TX\, 78701\, United States
ATTACH;FMTTYPE=image/jpeg:https://caritasofaustin.org/wp-content/uploads/2023/08/Issues-and-Eggs.jpg
END:VEVENT
BEGIN:VEVENT
DTSTART;VALUE=DATE:20231106
DTEND;VALUE=DATE:20231204
DTSTAMP:20260424T110547
CREATED:20231031T202719Z
LAST-MODIFIED:20231101T175859Z
UID:6617-1699228800-1701647999@caritasofaustin.org
SUMMARY:Better Giving Through Pizza
DESCRIPTION:Do good and eat good this month at Via 313! For the month of November\, all Via 313 locations will donate $1 from select items to Caritas of Austin and our work to end homelessness. Order the Jalepeno Poppa pizza\, Lock\, Stock & Berries cocktail or any item off the monthly specials menu and you can help us ensure all Austinites have a safe place to call home!
URL:https://caritasofaustin.org/event/better-giving-through-pizza/
LOCATION:Via 313
ATTACH;FMTTYPE=image/png:https://caritasofaustin.org/wp-content/uploads/2023/10/Copy-of-Better-Giving-Through-Pizza_Social-for-Partners-e1698861519160.png
END:VEVENT
BEGIN:VEVENT
DTSTART;VALUE=DATE:20231110
DTEND;VALUE=DATE:20240101
DTSTAMP:20260424T110547
CREATED:20221110T144810Z
LAST-MODIFIED:20231115T160052Z
UID:5778-1699574400-1704067199@caritasofaustin.org
SUMMARY:South Congress Hotel - Home for the Holidays
DESCRIPTION:This holiday season\, South Congress Hotel is partnering with Caritas of Austin to end homelessness in our community! South Congress Hotel shares our belief that everyone deserves a safe place to call home\, so they are donating $15 of nightly room bookings to Caritas of Austin. Join us in giving the gift of home to our unhoused neighbors this season. The offer ends on December 31st\, so be sure to book your room today!
URL:https://caritasofaustin.org/event/south-congress-hotel-home-for-the-holidays/
LOCATION:South Congress Hotel\, 1603 S Congress Ave\, Austin\, TX\, 78704\, United States
ATTACH;FMTTYPE=image/png:https://caritasofaustin.org/wp-content/uploads/2022/11/home_for_the_holidays-01-e1668091640159.png
END:VEVENT
BEGIN:VEVENT
DTSTART;TZID=America/Chicago:20231116T163000
DTEND;TZID=America/Chicago:20231116T183000
DTSTAMP:20260424T110547
CREATED:20231030T150956Z
LAST-MODIFIED:20231106T163558Z
UID:6601-1700152200-1700159400@caritasofaustin.org
SUMMARY:Community Conversation: The Future of Homelessness Support Services in Austin
DESCRIPTION:Join us on November 16th from 4:30 to 6:30 p.m. for a special Community Conversation held at Caritas North. Join us\,  Mayor Kirk Watson\, and Caritas of Austin CEO Jo Kathryn Quinn\, as they discuss the problem of homelessness in Austin\, the current continuum of care\, and what the future holds for our community as we make homelessness rare\, brief\, and nonrecurring. \nSpace is limited\, so please RSVP to Troy Gilbert at tgilbert@caritasofaustin.org.
URL:https://caritasofaustin.org/event/community-conversation-the-future-of-homelessness-support-services-in-austin/
LOCATION:Caritas North\, 9027 Northgate Boulevard\, Austin\, TX\, 78758
CATEGORIES:Community Conversation
ATTACH;FMTTYPE=image/png:https://caritasofaustin.org/wp-content/uploads/2023/10/Copy-of-Community-Conversation_Dec-2020_FB-3-e1699288526781.png
END:VEVENT
BEGIN:VEVENT
DTSTART;VALUE=DATE:20231123
DTEND;VALUE=DATE:20231124
DTSTAMP:20260424T110547
CREATED:20170811T233508Z
LAST-MODIFIED:20230905T201924Z
UID:607-1700697600-1700783999@caritasofaustin.org
SUMMARY:ThunderCloud Subs Turkey Trot
DESCRIPTION:Join us for Austin’s favorite Thanksgiving tradition\, the 33rd Annual ThunderCloud Subs Turkey Trot! For over three decades\, the ThunderCloud Subs Turkey Trot has benefitted Caritas of Austin and our work to end homelessness in our community.  You can help ensure all Austinites have a safe place to call home by registering\, volunteering\, fundraising\, or purchasing raffle tickets!
URL:https://caritasofaustin.org/event/thundercloud-subs-turkey-trot/
LOCATION:The Long Center for the Performing Arts\, 701 West Riverside Drive\, Austin\, TX\, 78704\, United States
ATTACH;FMTTYPE=image/png:https://caritasofaustin.org/wp-content/uploads/2017/08/2-Sara-Wagner-1-edited-for-2023-SM.png
END:VEVENT
BEGIN:VEVENT
DTSTART;VALUE=DATE:20231128
DTEND;VALUE=DATE:20231129
DTSTAMP:20260424T110547
CREATED:20231101T154205Z
LAST-MODIFIED:20231101T154205Z
UID:6627-1701129600-1701215999@caritasofaustin.org
SUMMARY:Giving Tuesday 2023
DESCRIPTION:Mark your calendars for Giving Tuesday on November 28! On this day of global generosity\, you can give our unhoused neighbors the gift of home and hope. \nThanks to an anonymous holiday gift match\, all donations will be matched up to $100\,000. Don’t miss your chance to double your impact for our neighbors experiencing homelessness!
URL:https://caritasofaustin.org/event/giving-tuesday-2023/
LOCATION:TX
ATTACH;FMTTYPE=image/png:https://caritasofaustin.org/wp-content/uploads/2023/11/Caritas_2023GivingTuesday_Insta_SaveDate_1-e1698853177952.png
END:VEVENT
BEGIN:VEVENT
DTSTART;VALUE=DATE:20231201
DTEND;VALUE=DATE:20240201
DTSTAMP:20260424T110547
CREATED:20231204T175738Z
LAST-MODIFIED:20231204T175738Z
UID:6684-1701388800-1706745599@caritasofaustin.org
SUMMARY:Season for Caring
DESCRIPTION:Aaliyah Gaulmon’s number one priority is the safety\, health\, happiness of her daughter.\n\nAfter escaping domestic abuse\, the family of two experienced homelessness in Austin. After connecting with Caritas of Austin\, they now have a safe home.\n\nThis year\, the Gaulmon family has been chosen to participate in the Austin-American Statesman Season for Caring Campaign! You can help make their house a home by donating on the Statesman’s website or purchasing items from the family’s Amazon Wish List.
URL:https://caritasofaustin.org/event/season-for-caring/
LOCATION:TX
ATTACH;FMTTYPE=image/jpeg:https://caritasofaustin.org/wp-content/uploads/2023/12/71440317007-sfc-gaulmon-mlc-00090-1-e1701712634304.jpg
END:VEVENT
BEGIN:VEVENT
DTSTART;VALUE=DATE:20231210
DTEND;VALUE=DATE:20231223
DTSTAMP:20260424T110547
CREATED:20231115T161933Z
LAST-MODIFIED:20231115T161933Z
UID:6647-1702166400-1703289599@caritasofaustin.org
SUMMARY:Cookies for Community
DESCRIPTION:Treat yourself this holiday season to Tiff’s Treats AND help end homelessness in Austin! \nFrom December 10th to December 22nd\, Tiff’s Treats will donate 20% of cookie sales to Caritas of Austin when you use code “Caritas” at checkout.  \nEnjoy delicious cookies and making a difference in our community!
URL:https://caritasofaustin.org/event/cookies-for-community/
LOCATION:Tiff’s Treats
ATTACH;FMTTYPE=image/png:https://caritasofaustin.org/wp-content/uploads/2023/11/Cookies-for-Community-e1700065155274.png
END:VEVENT
BEGIN:VEVENT
DTSTART;VALUE=DATE:20240103
DTEND;VALUE=DATE:20240401
DTSTAMP:20260424T110547
CREATED:20240103T200031Z
LAST-MODIFIED:20240103T200031Z
UID:6713-1704240000-1711929599@caritasofaustin.org
SUMMARY:Pinthouse PINT Project
DESCRIPTION:Enjoy a warm slice of pie and help end homelessness in Austin at Pinthouse Pizza January through March! \nAt Burnet and Lamar restaurant locations\, funds from all sizes of “Off the Map” pizzas will be donated to Caritas of Austin. At Ben White brewery\, funds from seasonal pizza purchases will be donated to Caritas of Austin as well. \nNot in the mood for pizza? Order a special “PINT Project Beer”\, and you can contribute to our work\, too! \nYou can also purchase a PINT Project t-shirt or help all Austinites have a safe place to call home by adding a donation to your tab. \nHowever you choose to enjoy or participate\, you’re helping make homelessness rare\, brief and nonrecurring in Central Texas!
URL:https://caritasofaustin.org/event/pinthouse-pint-project/
LOCATION:Pinthouse Pizza\, 4236 South Lamar Blvd.\, Austin\, TX\, 78704
ATTACH;FMTTYPE=image/png:https://caritasofaustin.org/wp-content/uploads/2024/01/pinthouse-partners-3-e1704312000372.png
END:VEVENT
BEGIN:VEVENT
DTSTART;VALUE=DATE:20240202
DTEND;VALUE=DATE:20240309
DTSTAMP:20260424T110547
CREATED:20240123T153458Z
LAST-MODIFIED:20240226T154241Z
UID:6771-1706832000-1709942399@caritasofaustin.org
SUMMARY:I Love Caritas of Austin So Much (An Austin Originals Tour)
DESCRIPTION:This year\, we’re celebrating our 60th Anniversary as a proud Austin Original! \nJoin us in celebrating this milestone with I Love Caritas So Much (An Austin Originals Tour)\, presented by Austin Subaru! \nThis month\, local businesses all across Austin are toasting to our 60th with special\, in-store deals.  \nTo qualify for these free or discounted deals\, snap a picture at the shop\, post it on your social media\, tagging Caritas of Austin and Austin Subaru\, and enjoy! \n\nFebruary 2 – Batch Craft Beer and Kolaches \n\nEnjoy a free cup of coffee!\n\n\nFebruary 9 – Central District Brewing\n\nThe first 50 people to participate receive a free drink certificate. Not one of the first 50? You can still participate and enjoy a discounted drink!\n\n\nFebruary 16 – Austin Subaru\n\nGet a free coffee at Austin Subaru’s Continental Cafe!\n\n\nMarch 4-8 – Uptown Sports Club\n\nGet a free drip coffee or cold brew!
URL:https://caritasofaustin.org/event/i-love-caritas-of-austin-so-much-an-austin-originals-tour/
LOCATION:TX
ATTACH;FMTTYPE=image/png:https://caritasofaustin.org/wp-content/uploads/2024/01/Caritas_a2024AustinOriginalTour_SocialMedia_FB-e1706024039662.png
END:VEVENT
BEGIN:VEVENT
DTSTART;VALUE=DATE:20240221
DTEND;VALUE=DATE:20240307
DTSTAMP:20260424T110547
CREATED:20240221T204825Z
LAST-MODIFIED:20240221T204825Z
UID:6821-1708473600-1709769599@caritasofaustin.org
SUMMARY:
DESCRIPTION:Now until March 6th\, enjoy a free “Snacky Plate”* when you donate to Bar Peached’s fundraiser here! \nAll proceeds go to Caritas of Austin and the Central Texas Food Bank. Eat good and do good these next few weeks! \n*Excluding the duck roll.
URL:https://caritasofaustin.org/event/6821/
LOCATION:Bar Peached\, 1315 W 6th St\, Austin\, TX\, 78703\, United States
ATTACH;FMTTYPE=image/png:https://caritasofaustin.org/wp-content/uploads/2024/02/bar-peached.png
END:VEVENT
BEGIN:VEVENT
DTSTART;TZID=America/Chicago:20240306T180000
DTEND;TZID=America/Chicago:20240307T180000
DTSTAMP:20260424T110547
CREATED:20240109T204524Z
LAST-MODIFIED:20240109T204524Z
UID:6742-1709748000-1709834400@caritasofaustin.org
SUMMARY:Amplify Austin
DESCRIPTION:Help us Amplify Home as we celebrate 60 years of ending homelessness in Austin. \n\nYour generosity on this citywide day of giving is vital in providing our community members with a safe place to call home and resources we all need to thrive. Thanks to the generosity of our matching donors\, you can double your impact!\n\nMark your calendars to give on March 6-7\, and your impact in ending homelessness in Austin will be doubled.\n\nEarly Giving opens on January 24th for those who can’t wait until March 6 to donate! Visit our Amplify Austin page to make your gift today.
URL:https://caritasofaustin.org/event/amplify-austin-2/
LOCATION:TX
ATTACH;FMTTYPE=image/png:https://caritasofaustin.org/wp-content/uploads/2024/01/Caritas_2024Amplify_FacebookCover-e1704832725624.png
END:VEVENT
BEGIN:VEVENT
DTSTART;TZID=America/Chicago:20240312T120000
DTEND;TZID=America/Chicago:20240312T150000
DTSTAMP:20260424T110547
CREATED:20240104T202840Z
LAST-MODIFIED:20240104T214527Z
UID:6721-1710244800-1710255600@caritasofaustin.org
SUMMARY:Coffee for Caritas of Austin
DESCRIPTION:Enjoy your favorite iced or hot coffee drink on March 12 from 12-3 pm\, and you can help end homelessness in Austin! Lucky Lab Coffee Co will donate 15% of all proceeds to Caritas of Austin and our work ensuring everyone has a safe home. Don’t forget to let the barista know you are with Caritas of Austin so your purchase* can go toward making our city more vibrant for all! \n*Minimum of $6 purchase per guest.
URL:https://caritasofaustin.org/event/coffee-for-caritas-of-austin/
LOCATION:Lucky Lab CoffeeCo\, 2421 San Antonio Street\, Austin\, TX\, 78705\, United States
ATTACH;FMTTYPE=image/png:https://caritasofaustin.org/wp-content/uploads/2024/01/Coffee-e1704400028252.png
END:VEVENT
BEGIN:VEVENT
DTSTART;TZID=America/Chicago:20240313T140000
DTEND;TZID=America/Chicago:20240313T200000
DTSTAMP:20260424T110547
CREATED:20240221T145410Z
LAST-MODIFIED:20240221T145410Z
UID:6818-1710338400-1710360000@caritasofaustin.org
SUMMARY:
DESCRIPTION:Celebrate 20 years of South by Soup Fest on March 13 at Guero’s Taco Bar! \nHosted by ComboPlate Booking\, this free event benefits Caritas of Austin’s Food Services Program. All proceeds from raffled CDs\, gift certificates from local restaurants\, coffee shops\, and businesses\, and band tips will be donated to our work to end homelessness.
URL:https://caritasofaustin.org/event/6818/
LOCATION:Guero’s Taco Bar\, 1412 S Congress Ave\, Austin\, TX\, United States
ATTACH;FMTTYPE=image/jpeg:https://caritasofaustin.org/wp-content/uploads/2024/02/SXSF-2024.jpg
END:VEVENT
BEGIN:VEVENT
DTSTART;TZID=America/Chicago:20240323T150000
DTEND;TZID=America/Chicago:20240323T180000
DTSTAMP:20260424T110547
CREATED:20240308T180400Z
LAST-MODIFIED:20240308T180616Z
UID:6957-1711206000-1711216800@caritasofaustin.org
SUMMARY:Ready\, Set\, Rally!
DESCRIPTION:Join us and Austin Subaru at Moontower Saloon for Ready\, Set\, Rally! \nThis three-hour\, FREE event includes Zilker Bark pet portraits\, sand volleyball games\, crawfish boil\, raffle tickets\, face painting\, and much more! All proceeds from the portraits and raffles will go to Austin Subaru’s nonprofit partners\, including Caritas of Austin. \nWe can’t wait to see you there!
URL:https://caritasofaustin.org/event/ready-set-rally-2/
LOCATION:Moontower Saloon\, 10212 Menchaca Road\, Austin\, 78748\, United States
ATTACH;FMTTYPE=image/png:https://caritasofaustin.org/wp-content/uploads/2024/03/ReadySetRally_512_social2.png
END:VEVENT
BEGIN:VEVENT
DTSTART;TZID=America/Chicago:20240418T180000
DTEND;TZID=America/Chicago:20240418T220000
DTSTAMP:20260424T110547
CREATED:20240108T153038Z
LAST-MODIFIED:20240103T192312Z
UID:6708-1713463200-1713477600@caritasofaustin.org
SUMMARY:Songs of Hope Presented by Austin Subaru
DESCRIPTION:Join us on April 18th for live music by Reid Umstattd and Grammy-Award winning band Grupo Fantasma\, dinner\, dancing\, a live and silent auction\, a Fund The Mission opportunity\, and more. Gather your friends\, family or coworkers and get your tickets today! \n100% of funds raised stay local and are used to prevent and end homelessness for people in Greater Austin.
URL:https://caritasofaustin.org/event/songs-of-hope-presented-by-austin-subaru/
LOCATION:The Long Center for the Performing Arts\, 701 West Riverside Drive\, Austin\, TX\, 78704\, United States
ATTACH;FMTTYPE=image/png:https://caritasofaustin.org/wp-content/uploads/2024/01/Cartias_2024SOH_SaveDate_FB-e1704309599631.png
END:VEVENT
BEGIN:VEVENT
DTSTART;TZID=America/Chicago:20240518T100000
DTEND;TZID=America/Chicago:20240518T120000
DTSTAMP:20260424T110547
CREATED:20240322T162900Z
LAST-MODIFIED:20240322T162900Z
UID:7010-1716026400-1716033600@caritasofaustin.org
SUMMARY:Caritas of Austin 60th Anniversary Block Party
DESCRIPTION:Come celebrate 60 years of ending homelessness in Austin with us! \nThis free block party is family friendly with fun activities like face painting\, hula hooping\, live music\, and much more. \nJoin us on Saturday\, May 18th\, from 10 a.m. to noon. Together\, we’re ensuring all Austinites have a safe place to call home! \nParking is available at St. David’s Parking Garage on E. 7th and Trinity.
URL:https://caritasofaustin.org/event/caritas-of-austin-60th-anniversary-block-party/
LOCATION:Outside Caritas of Austin\, 611 Neches St.\, Austin\, TX\, 78767\, United States
ATTACH;FMTTYPE=image/png:https://caritasofaustin.org/wp-content/uploads/2024/03/date-June-15-2024-e1711124889923.png
END:VEVENT
BEGIN:VEVENT
DTSTART;VALUE=DATE:20240529
DTEND;VALUE=DATE:20240530
DTSTAMP:20260424T110547
CREATED:20240506T152126Z
LAST-MODIFIED:20240528T142049Z
UID:7156-1716940800-1717027199@caritasofaustin.org
SUMMARY:$60 for 60 Years!
DESCRIPTION:Six decades of ending homelessness is only possible thanks to generous community members like you\, and we invite you to celebrate all we’ve done together by participating in our $60 for 60 years celebration! \nJoin us in celebrating this milestone and help continue creating a future where no Austinite experiences homelessness by donating $60 on May 29. Click here to give today. \nTogether\, we’re ending homelessness in the city we all love and live in!
URL:https://caritasofaustin.org/event/60-for-60-years/
LOCATION:TX
ATTACH;FMTTYPE=image/png:https://caritasofaustin.org/wp-content/uploads/2024/05/Caritas_2024_60for60_insta-e1715008719592.png
END:VEVENT
BEGIN:VEVENT
DTSTART;TZID=America/Chicago:20240608T110000
DTEND;TZID=America/Chicago:20240608T143000
DTSTAMP:20260424T110547
CREATED:20240430T205058Z
LAST-MODIFIED:20240430T205058Z
UID:7152-1717844400-1717857000@caritasofaustin.org
SUMMARY:World Refugee Day
DESCRIPTION:Join us for a free celebration of World Refugee Day at the Bullock Museum and learn about the cultures that continue to make Texas the diverse place it is today. \nCommemorate the United Nations’ World Refugee Day with a naturalization ceremony\, free samples of world cuisine\, live music\, and activities for kids of all ages!
URL:https://caritasofaustin.org/event/world-refugee-day-2/
LOCATION:Bullock Texas State History Museum\, 1800 Congress Ave\, Austin\, TX\, 78701
ATTACH;FMTTYPE=image/png:https://caritasofaustin.org/wp-content/uploads/2024/04/Join-us-at-e1714510239290.png
END:VEVENT
BEGIN:VEVENT
DTSTART;TZID=America/Chicago:20251213T150000
DTEND;TZID=America/Chicago:20251213T190000
DTSTAMP:20260424T110547
CREATED:20251117T180043Z
LAST-MODIFIED:20251117T171955Z
UID:7353-1765638000-1765652400@caritasofaustin.org
SUMMARY:SantaCon 2025
DESCRIPTION:Get ready to deck the streets with holiday cheer at SantaCon 2025! \nThis year\, we’re turning the Yards & Foundry into a winter wonderland on December 13th as thousands of merry participants don their best Santa suits\, holiday attire\, and festive accessories. \nGather your friends and embrace the spirit of the season as we spread joy\, laughter while you enjoy a day filled with Santa-themed events\, exciting prizes\, and delicious treats at local bars and restaurants.
URL:https://caritasofaustin.org/event/santacon-2025/
LOCATION:The Yard & The Foundry\, 440 E. St Elmo Rd\, Austin\, TX\, 78745\, United States
END:VEVENT
END:VCALENDAR