BEGIN:VCALENDAR
VERSION:2.0
PRODID:-//Caritas of Austin - ECPv6.15.17.1//NONSGML v1.0//EN
CALSCALE:GREGORIAN
METHOD:PUBLISH
X-WR-CALNAME:Caritas of Austin
X-ORIGINAL-URL:https://caritasofaustin.org
X-WR-CALDESC:Events for Caritas of Austin
REFRESH-INTERVAL;VALUE=DURATION:PT1H
X-Robots-Tag:noindex
X-PUBLISHED-TTL:PT1H
BEGIN:VTIMEZONE
TZID:America/Chicago
BEGIN:DAYLIGHT
TZOFFSETFROM:-0600
TZOFFSETTO:-0500
TZNAME:CDT
DTSTART:20190310T080000
END:DAYLIGHT
BEGIN:STANDARD
TZOFFSETFROM:-0500
TZOFFSETTO:-0600
TZNAME:CST
DTSTART:20191103T070000
END:STANDARD
BEGIN:DAYLIGHT
TZOFFSETFROM:-0600
TZOFFSETTO:-0500
TZNAME:CDT
DTSTART:20200308T080000
END:DAYLIGHT
BEGIN:STANDARD
TZOFFSETFROM:-0500
TZOFFSETTO:-0600
TZNAME:CST
DTSTART:20201101T070000
END:STANDARD
BEGIN:DAYLIGHT
TZOFFSETFROM:-0600
TZOFFSETTO:-0500
TZNAME:CDT
DTSTART:20210314T080000
END:DAYLIGHT
BEGIN:STANDARD
TZOFFSETFROM:-0500
TZOFFSETTO:-0600
TZNAME:CST
DTSTART:20211107T070000
END:STANDARD
END:VTIMEZONE
BEGIN:VEVENT
DTSTART;TZID=America/Chicago:20200620T110000
DTEND;TZID=America/Chicago:20200620T143000
DTSTAMP:20260424T134526
CREATED:20200612T171253Z
LAST-MODIFIED:20200617T214330Z
UID:3291-1592650800-1592663400@caritasofaustin.org
SUMMARY:World Refugee Day Virtual Celebration
DESCRIPTION:The Refugee Roundtable of Austin invites the public to its annual celebration of World Refugee Day on Saturday\, June 20th. This year’s event will offer live-streamed fireside chats with refugees and experts on refugee resettlement\, new book readings from authors\, language lessons and a variety of family-friendly downloadable activities. This event is one of the dozens that will take place across the nation to celebrate World Refugee Day. \nSchedule of Live Events\n11:00AM – Fireside Chat: Refugee Stories\n12:00PM – A reading from After the Last Border and Q&A with author\, Jessica Goudeau\n12:45PM – Fireside Chat: The Experts of Refugee Resettlement\n1:30PM – A reading from The Boy Refugee; A Memoir from a Long-Forgotten War. and Q&A with author\, Dr. Khawaja Azimuddin\n2:00PM – Special message from the Austin Refugee Roundtable with Russell A. Smith\, CEO of Refugee Services of Texas – Austin and Simone Talma Flowers\, Executive Director of Interfaith Action of Central Texas – iACT \nLog on to austinrefugees.org to register for these live events and to receive viewing instructions. The public is invited to learn more about refugees and participate in celebrating their cultures\, stories\, and experiences. \nFollow this event on Facebook!
URL:https://caritasofaustin.org/event/world-refugee-day-virtual-celebration/
LOCATION:TX
ATTACH;FMTTYPE=image/png:https://caritasofaustin.org/wp-content/uploads/2020/06/WRD-2020-header-image.png
END:VEVENT
END:VCALENDAR